BEGIN:VCALENDAR
VERSION:2.0
PRODID:-//eventon.com NONSGML v1.0//EN
CALSCALE:GREGORIAN
METHOD:PUBLISH
BEGIN:VEVENT
UID:69eb341258703
DTSTAMP:20260424T091250Z
DTSTART:20260806T080000Z
DTEND:20260807T180000Z
LOCATION:Parking salle polyvalente 5 Rue de la République\,  03190 Estivareilles
SUMMARY:Tritou mobile
DESCRIPTION:Tritou mobile\nhttps://www.estivareilles03.fr/events/tritou-mob
 ile-2/
URL:https://www.estivareilles03.fr/events/tritou-mobile-2/
END:VEVENT
END:VCALENDAR