BEGIN:VCALENDAR
VERSION:2.0
PRODID:-//eventon.com NONSGML v1.0//EN
CALSCALE:GREGORIAN
METHOD:PUBLISH
BEGIN:VEVENT
UID:69e840ff7e1cf
DTSTAMP:20260422T033111Z
DTSTART:20260624T150000Z
DTEND:20260624T190000Z
LOCATION:Salle polyvalente 5 rue de la République\,  03190 Estivareilles
SUMMARY:Collecte de sang
DESCRIPTION:Collecte de sang\nhttps://www.estivareilles03.fr/events/collect
 e-de-sang-2/
URL:https://www.estivareilles03.fr/events/collecte-de-sang-2/
END:VEVENT
END:VCALENDAR